BEGIN:VCALENDAR
VERSION:2.0
PRODID:-//wp-events-plugin.com//7.2.3.1//EN
TZID:Europe/Vienna
X-WR-TIMEZONE:Europe/Vienna
BEGIN:VEVENT
UID:143@ycrhd.at
DTSTART;TZID=Europe/Vienna:20211208T150000
DTEND;TZID=Europe/Vienna:20211208T220000
DTSTAMP:20201121T190854Z
URL:https://ycrhd.at/events/ustrinkate-am-molo/
SUMMARY:Ustrinkate am Molo
DESCRIPTION:Am Mittwoch 8. Dezember feiert der YCRhd wieder das berüchtigt
 e Ustrinkate am Molo\n\nAb 15.00 Uhr geht's zur Sache
END:VEVENT
BEGIN:VTIMEZONE
TZID:Europe/Vienna
X-LIC-LOCATION:Europe/Vienna
BEGIN:STANDARD
DTSTART:20211031T020000
TZOFFSETFROM:+0200
TZOFFSETTO:+0100
TZNAME:CET
END:STANDARD
END:VTIMEZONE
END:VCALENDAR