BEGIN:VCALENDAR
VERSION:2.0
PRODID:-//wp-events-plugin.com//7.2.3.1//EN
TZID:Europe/Vienna
X-WR-TIMEZONE:Europe/Vienna
BEGIN:VEVENT
UID:4@ycrhd.at
DTSTART;TZID=Europe/Vienna:20150306T190000
DTEND;TZID=Europe/Vienna:20150306T210000
DTSTAMP:20150302T050814Z
URL:https://ycrhd.at/events/segeln-in-der-literatur/
SUMMARY:Segeln in der Literatur
DESCRIPTION:Am 6.03. findet ab um 19:00 Uhr in unserem schönen Clubheim "S
 egeln in der Literatur" statt. Augustin Jagg wird uns mit faszinierenden G
 eschichten und musikalischer Begleitung auf eine literarische Reise mitneh
 men. Dieses Erlebnis solltet Ihr nicht versäumen!\nNatürlich wird auch 
 für das leibliche Wohl gesorgt:\n\n\n	Gemüsesuppe\n	Spare-rips mit Folie
 nkartoffel und Sauerrahm\n	Schwedenbomben\n\nDas Menü kostet EUR 15\,00 
 / Person.\nAnmeldungen bitte bis spätestens 03.03.2015
LOCATION:\, \, 
X-APPLE-STRUCTURED-LOCATION;VALUE=URI;X-ADDRESS=\, ;X-APPLE-RADIUS=100;X-TI
 TLE=:geo:0,0
END:VEVENT
BEGIN:VTIMEZONE
TZID:Europe/Vienna
X-LIC-LOCATION:Europe/Vienna
BEGIN:STANDARD
DTSTART:20141026T020000
TZOFFSETFROM:+0200
TZOFFSETTO:+0100
TZNAME:CET
END:STANDARD
END:VTIMEZONE
END:VCALENDAR