BEGIN:VCALENDAR
VERSION:2.0
PRODID:-//wp-events-plugin.com//7.2.3.1//EN
TZID:Europe/Vienna
X-WR-TIMEZONE:Europe/Vienna
BEGIN:VEVENT
UID:147@ycrhd.at
DTSTART;TZID=Europe/Vienna:20210903T200000
DTEND;TZID=Europe/Vienna:20210903T230000
DTSTAMP:20210810T191738Z
URL:https://ycrhd.at/events/segeln-in-der-literatur-8/
SUMMARY:Segeln in der Literatur
DESCRIPTION:Einladung zum Segeln in der Literatur\n\nWir freuen uns euch mi
 tzuteilen\, dass Augustin Jagg uns einen Ersatztermin anbieten kann. &nbsp
 \;Am Freitag\, den 3. September findet um 20:00 Uhr in unserem schönen Cl
 ubheim „Segeln in der Literatur“ statt.\n\nAugustin Jagg wird uns mit 
 seinen faszinierenden Geschichten auf eine literarische Reise mitnehmen. U
 nd das mit musikalischer Begleitung.\n\nDieses Erlebnis solltet Ihr nicht 
 versäumen! Natürlich wird auch für das leibliche Wohl gesorgt.\n\nEUR 1
 4.00 / Person inkl. Musikbeitrag\n\nAnmeldungen bitte bis spätestens Dien
 stag\, 30.August 2021 direkt auf der Homepage unter: Veranstaltungen
LOCATION:Clubheim YCRhd\, Hafenstraße 22\, Fußach\, Vorarlberg\, 6972\, 
 Österreich
GEO:47.490398;9.660162
X-APPLE-STRUCTURED-LOCATION;VALUE=URI;X-ADDRESS=Hafenstraße 22\, Fußach\,
  Vorarlberg\, 6972\, Österreich;X-APPLE-RADIUS=100;X-TITLE=Clubheim YCRhd
 :geo:47.490398,9.660162
END:VEVENT
BEGIN:VTIMEZONE
TZID:Europe/Vienna
X-LIC-LOCATION:Europe/Vienna
BEGIN:DAYLIGHT
DTSTART:20210328T030000
TZOFFSETFROM:+0100
TZOFFSETTO:+0200
TZNAME:CEST
END:DAYLIGHT
END:VTIMEZONE
END:VCALENDAR