BEGIN:VCALENDAR
VERSION:2.0
PRODID:-//wp-events-plugin.com//7.2.3.1//EN
TZID:Europe/Vienna
X-WR-TIMEZONE:Europe/Vienna
BEGIN:VEVENT
UID:66@ycrhd.at
DTSTART;TZID=Europe/Vienna:20180406T190000
DTEND;TZID=Europe/Vienna:20180406T210000
DTSTAMP:20180323T190529Z
URL:https://ycrhd.at/events/segeln-in-der-literatur-4/
SUMMARY:Segeln in der Literatur
DESCRIPTION:Am 6.April findet um 19:00 Uhr in unserem schönen Clubheim „
 Segeln in der Literatur“ statt. Augustin Jagg wird uns mit faszinierende
 n Geschichten und musikalischer Begleitung auf eine literarische Reise mit
 nehmen.\nDieses Erlebnis solltet Ihr nicht versäumen!\nNatürlich wird au
 ch für das leibliche Wohl gesorgt\n\nAnmeldungen bitte bis spätestens 3.
 April 2018 direkt hier\n\nEinfach mit E-Mail Adresse und Teilnehmeranzahl 
 anmelden\, sie erhalten eine automatische Bestätigung per Mail.
LOCATION:Clubheim YCRhd\, Hafenstraße 22\, Fußach\, Vorarlberg\, 6972\, 
 Österreich
GEO:47.490398;9.660162
X-APPLE-STRUCTURED-LOCATION;VALUE=URI;X-ADDRESS=Hafenstraße 22\, Fußach\,
  Vorarlberg\, 6972\, Österreich;X-APPLE-RADIUS=100;X-TITLE=Clubheim YCRhd
 :geo:47.490398,9.660162
END:VEVENT
BEGIN:VTIMEZONE
TZID:Europe/Vienna
X-LIC-LOCATION:Europe/Vienna
BEGIN:DAYLIGHT
DTSTART:20180325T030000
TZOFFSETFROM:+0100
TZOFFSETTO:+0200
TZNAME:CEST
END:DAYLIGHT
END:VTIMEZONE
END:VCALENDAR