BEGIN:VCALENDAR
VERSION:2.0
PRODID:-//wp-events-plugin.com//7.2.3.1//EN
TZID:Europe/Vienna
X-WR-TIMEZONE:Europe/Vienna
BEGIN:VEVENT
UID:48@ycrhd.at
DTSTART;TZID=Europe/Vienna:20170324T190000
DTEND;TZID=Europe/Vienna:20170324T220000
DTSTAMP:20170320T153353Z
URL:https://ycrhd.at/events/segeln-in-der-literatur-3/
SUMMARY:Segeln in der Literatur
DESCRIPTION:Am 24.03. findet um 19:00 Uhr in unserem schönen Clubheim „S
 egeln in der Literatur“ statt. Augustin Jagg wird uns mit faszinierenden
  Geschichten und musikalischer Begleitung auf eine literarische Reise mitn
 ehmen.\nDieses Erlebnis solltet Ihr nicht versäumen!
LOCATION:Clubheim YCRhd\, Hafenstraße 22\, Fußach\, Vorarlberg\, 6972\, 
 Österreich
GEO:47.490398;9.660162
X-APPLE-STRUCTURED-LOCATION;VALUE=URI;X-ADDRESS=Hafenstraße 22\, Fußach\,
  Vorarlberg\, 6972\, Österreich;X-APPLE-RADIUS=100;X-TITLE=Clubheim YCRhd
 :geo:47.490398,9.660162
END:VEVENT
BEGIN:VTIMEZONE
TZID:Europe/Vienna
X-LIC-LOCATION:Europe/Vienna
BEGIN:STANDARD
DTSTART:20161030T020000
TZOFFSETFROM:+0200
TZOFFSETTO:+0100
TZNAME:CET
END:STANDARD
END:VTIMEZONE
END:VCALENDAR