BEGIN:VCALENDAR
VERSION:2.0
PRODID:-//wp-events-plugin.com//7.2.3.1//EN
TZID:Europe/Vienna
X-WR-TIMEZONE:Europe/Vienna
BEGIN:VEVENT
UID:23@ycrhd.at
DTSTART;TZID=Europe/Vienna:20160226T183000
DTEND;TZID=Europe/Vienna:20160226T223000
DTSTAMP:20160215T082202Z
URL:https://ycrhd.at/events/segeln-in-der-literatur-2/
SUMMARY:Segeln in der Literatur
DESCRIPTION:Am 26.02. findet ab um 19:00 Uhr in unserem schönen Clubheim 
 „Segeln in der Literatur“ statt. Augustin Jagg wird uns mit fasziniere
 nden Geschichten und musikalischer Begleitung auf eine literarische Reise 
 mitnehmen. Dieses Erlebnis solltet Ihr nicht versäumen!\n\nNatürlich wi
 rd auch für das leibliche Wohl gesorgt:\n\n	Zitronenhühnchen aus dem Bac
 krohr\n	Basmati Reis\n	Indisches Gemüsecurry\n\nDas Menü kostet EUR 10.-
  / Person.\n\nAnmeldungen bitte bis spätestens 20.02.2016
LOCATION:Clubheim YCRhd\, Hafenstraße 22\, Fußach\, Vorarlberg\, 6972\, 
 Österreich
GEO:47.490398;9.660162
X-APPLE-STRUCTURED-LOCATION;VALUE=URI;X-ADDRESS=Hafenstraße 22\, Fußach\,
  Vorarlberg\, 6972\, Österreich;X-APPLE-RADIUS=100;X-TITLE=Clubheim YCRhd
 :geo:47.490398,9.660162
END:VEVENT
BEGIN:VTIMEZONE
TZID:Europe/Vienna
X-LIC-LOCATION:Europe/Vienna
BEGIN:STANDARD
DTSTART:20151025T020000
TZOFFSETFROM:+0200
TZOFFSETTO:+0100
TZNAME:CET
END:STANDARD
END:VTIMEZONE
END:VCALENDAR