BEGIN:VCALENDAR
VERSION:2.0
PRODID:-//wp-events-plugin.com//7.2.3.1//EN
TZID:Europe/Vienna
X-WR-TIMEZONE:Europe/Vienna
BEGIN:VEVENT
UID:136@ycrhd.at
DTSTART;TZID=Europe/Vienna:20210612T120000
DTEND;TZID=Europe/Vienna:20210612T233000
DTSTAMP:20201121T185045Z
URL:https://ycrhd.at/events/schoten-und-knotenregatta-7/
SUMMARY:Schoten- und Knotenregatta
DESCRIPTION:Die Schoten und Knotenregatta ist ein Mittelstrecken-Race das v
 iel Segelplausch bietet. Der Startschuss erfolgte um 12.00 h zum Gemeinsch
 aftsstart und führt über eine Auslaufboje Richtung Rheinmündung. Das Zi
 el liegt südlich von der Einfahrt nach Fussach.\n\nEine Regatta\, die imm
 er mehr Teilnehmer anlockt. Die Regatta selbst ist spannend und gesellscha
 ftlich wartet ein tolles Fest im schönen Clubhaus des YC Rheindelta mitte
 n im wunderschönen Naturschutzgebiet auf die Sportler.
END:VEVENT
BEGIN:VTIMEZONE
TZID:Europe/Vienna
X-LIC-LOCATION:Europe/Vienna
BEGIN:DAYLIGHT
DTSTART:20210328T030000
TZOFFSETFROM:+0100
TZOFFSETTO:+0200
TZNAME:CEST
END:DAYLIGHT
END:VTIMEZONE
END:VCALENDAR