BEGIN:VCALENDAR
VERSION:2.0
PRODID:-//wp-events-plugin.com//7.2.3.1//EN
TZID:Europe/Vienna
X-WR-TIMEZONE:Europe/Vienna
BEGIN:VEVENT
UID:166@ycrhd.at
DTSTART;TZID=Europe/Vienna:20220126T180000
DTEND;TZID=Europe/Vienna:20220126T210000
DTSTAMP:20220119T175128Z
URL:https://ycrhd.at/events/schnitzel-pommes-frites-am-mittwoch-26-januar/
SUMMARY:Schnitzel\, Pommes Frites am Mittwoch 26. Januar
DESCRIPTION:Liebe Clubmitglieder\n\nFrohe Weihnachten\, viel Glück und Ges
 undheit wünsche ich euch.\n\nAm Mittwoch\, den 26. Januar\, verwöhne ich
  euch gerne mit Schnitzel\, Pommes Frites\, dem Yachtclub Klassiker.\n\nIc
 h freue mich euch im neuen Jahr wieder zusehen.\n\nGuten Rutsch\n\nEure An
 drea
LOCATION:Clubheim YCRhd\, Hafenstraße 22\, Fußach\, Vorarlberg\, 6972\, 
 Österreich
GEO:47.490398;9.660162
X-APPLE-STRUCTURED-LOCATION;VALUE=URI;X-ADDRESS=Hafenstraße 22\, Fußach\,
  Vorarlberg\, 6972\, Österreich;X-APPLE-RADIUS=100;X-TITLE=Clubheim YCRhd
 :geo:47.490398,9.660162
END:VEVENT
BEGIN:VTIMEZONE
TZID:Europe/Vienna
X-LIC-LOCATION:Europe/Vienna
BEGIN:STANDARD
DTSTART:20211031T020000
TZOFFSETFROM:+0200
TZOFFSETTO:+0100
TZNAME:CET
END:STANDARD
END:VTIMEZONE
END:VCALENDAR