BEGIN:VCALENDAR
VERSION:2.0
PRODID:-//wp-events-plugin.com//7.2.3.1//EN
TZID:Europe/Vienna
X-WR-TIMEZONE:Europe/Vienna
BEGIN:VEVENT
UID:154@ycrhd.at
DTSTART;TZID=Europe/Vienna:20220130T090000
DTEND;TZID=Europe/Vienna:20220130T170000
DTSTAMP:20220120T184459Z
URL:https://ycrhd.at/events/schitag-6/
SUMMARY:Schitag
DESCRIPTION:Einladung zum Yachtclub Skitag 2022\n\nAm 30. Jänner ist es wi
 eder soweit: "Yachtclub Rheindelta goes Skiing"\n\nWer hats erkannt?  Ric
 htig\, wir gehen heuer wieder aufs Bödele!!\n\nTreffpunkte:\n\n 	Erster T
 reffpunkt für Frühaufsteher: 9:00 bei der Talstation des Hochälpelelift
 s.\n 	Um 10:00 treffen wir uns nochmals an der Talstation des Hochälpelel
 ifts.\n 	Um 11:30 werden die Halbtagskartenfahrer an der Talstation des Ho
 chälpelelifts abgeholt.\n 	Wer später dazu stoßen will findet uns siche
 r an der Skibar bei der Talstaion des Lanklifts \;-)\n\n&nbsp\;\n\nKosten 
 Liftkarte: https://www.boedele.info/skigebietsinfos/kartenpreise\n\nAchtun
 g: für diese Veranstaltung gilt die 2G Regel: https://www.boedele.info/sk
 igebietsinfos/covid-19\n\nEs gilt eine 2G-Pflicht für die Beförderung mi
 t einer Seilbahn zu touristischen Zwecken. Der 2G-Nachweis wird beim Tic
 ketverkauf kontrolliert.\n\nAnmeldungen über das Anmeldefromular.
ATTACH;FMTTYPE=image/jpeg:https://ycrhd.at/wp-content/uploads/2019/11/hoch
 aelpele-62964-1920x800-1.jpg
LOCATION:\, \, 
X-APPLE-STRUCTURED-LOCATION;VALUE=URI;X-ADDRESS=\, ;X-APPLE-RADIUS=100;X-TI
 TLE=:geo:0,0
END:VEVENT
BEGIN:VTIMEZONE
TZID:Europe/Vienna
X-LIC-LOCATION:Europe/Vienna
BEGIN:STANDARD
DTSTART:20211031T020000
TZOFFSETFROM:+0200
TZOFFSETTO:+0100
TZNAME:CET
END:STANDARD
END:VTIMEZONE
END:VCALENDAR