BEGIN:VCALENDAR
VERSION:2.0
PRODID:-//wp-events-plugin.com//7.2.3.1//EN
TZID:Europe/Vienna
X-WR-TIMEZONE:Europe/Vienna
BEGIN:VEVENT
UID:62@ycrhd.at
DTSTART;TZID=Europe/Vienna;VALUE=DATE:20180204
DTEND;TZID=Europe/Vienna;VALUE=DATE:20180205
DTSTAMP:20180201T213159Z
URL:https://ycrhd.at/events/schitag-3/
SUMMARY:Schitag
DESCRIPTION:Achtung Achtung erneute Terminänderung!!! Aufgrund der geringe
 n Meldezahl und vor allem wegen des Wetters am Samstag verschieben wri nun
  doch auf Sonntag den 04.02.2018!!!\n\n\nEinladung zum Yachtclub Skitag 20
 18\nAm 04. Februar ist es wieder soweit: "Yachtclub Rheindelta goes Skiing
 "\n\nWer hats erkannt\, wo steht diese Station?\n\nRichtig!!! In der Wiege
  des Alpinen Skisports!!\n\nWie kommen wir dahin:\n\n 	Treffpunkt um 07:30
  am Bahnhof Dornbirn unterm Flugdach wir fahren mit dem Skizug!\nREX 5557 
 Abfahrt 07:51 Bahnsteig 2 nach Feldkirch (Feldkrich Umsteigen auf RJ 161)\
 n 	Treffpunkt um 8:10 am Bahnsteig 2 am Bahnhof Feldkirch\nRJ 161 Abfahrt 
 08:17 am Bahnsteig 2\n 	Treffpunkt um 9:15 an Talstation der Rendelbahn in
  St. Anton\n\nKosten Zug: 13\,60 (inkl. Ski Bonusticket\, welches beim Kar
 tenkauf dazu zu buchen ist.)\n\nKosten Liftkarte: Erwachsene €53\,- --&g
 t\; für Vorarlberger gibts bei Vorlage eines Lichtbildausweis Rabatt\, f
 ür Zugfahrer gibts 10% Rabatt)\n\nAnmeldefrist bis Samstag\, den 3. Feb. 
 2018 18:00 verlängert!!  Anmeldungen über das Anmeldefromular. Bitte ac
 htet darauf\, dass ihr beim Anmelden den richtigen Treffpunkt auszuwählen
 .
ATTACH;FMTTYPE=image/jpeg:https://ycrhd.at/wp-content/uploads/2016/11/2017
 -02-11-09_37_00-Skigebiet-Mellau-Damüls-Skigebiet-Damüls-Mellau.png
LOCATION:\, \, 
X-APPLE-STRUCTURED-LOCATION;VALUE=URI;X-ADDRESS=\, ;X-APPLE-RADIUS=100;X-TI
 TLE=:geo:0,0
END:VEVENT
BEGIN:VTIMEZONE
TZID:Europe/Vienna
X-LIC-LOCATION:Europe/Vienna
BEGIN:STANDARD
DTSTART:20171029T020000
TZOFFSETFROM:+0200
TZOFFSETTO:+0100
TZNAME:CET
END:STANDARD
END:VTIMEZONE
END:VCALENDAR