BEGIN:VCALENDAR
VERSION:2.0
PRODID:-//wp-events-plugin.com//7.2.3.1//EN
TZID:Europe/Vienna
X-WR-TIMEZONE:Europe/Vienna
BEGIN:VEVENT
UID:59@ycrhd.at
DTSTART;TZID=Europe/Vienna:20170120T190000
DTEND;TZID=Europe/Vienna:20170120T220000
DTSTAMP:20161222T093034Z
URL:https://ycrhd.at/events/save-the-date-wetter/
SUMMARY:SEGELN – WETTER – TAKTIK Wetterkunde-Vortrag
DESCRIPTION:Wie funktioniert das Wetter\, was sind die Mechanismen die auf 
 großen und kleinen Skalen Wind und Wellen\, Sturm und Gewitter verursache
 n und beeinflussen?\n\nMag. Christoph Zingerle\, Meteorologe an der Zentra
 lanstalt für Meteorologie und Geodynamik Innsbruck\, wird mit seinem Vort
 rag versuchen\, Antworten auf diese Fragen zu geben.\n\nDabei geht es um e
 lementare Wetterabläufe aber auch um kleinräumige Phänomene\, Wettergef
 ahren wie Sturm\, Wärme- und Frontgewitter\, großräumige und lokale Win
 dsysteme und die Wechselwirkungen zwischen Luft\, Wasser und Land.\n\nChri
 stoph Zingerle ist selbst erfolgreicher Segler und wird auch auf die  ta
 ktische Nutzung der  Wetter- und Windsituation im Segelsport eingehen.\n
 Bitte unbedingt reservieren.\nKostenbeitrag: 9.- Euro inkl. Begrüssungs 
 Getränk
LOCATION:Clubheim YCRhd\, Hafenstraße 22\, Fußach\, Vorarlberg\, 6972\, 
 Österreich
GEO:47.490398;9.660162
X-APPLE-STRUCTURED-LOCATION;VALUE=URI;X-ADDRESS=Hafenstraße 22\, Fußach\,
  Vorarlberg\, 6972\, Österreich;X-APPLE-RADIUS=100;X-TITLE=Clubheim YCRhd
 :geo:47.490398,9.660162
END:VEVENT
BEGIN:VTIMEZONE
TZID:Europe/Vienna
X-LIC-LOCATION:Europe/Vienna
BEGIN:STANDARD
DTSTART:20161030T020000
TZOFFSETFROM:+0200
TZOFFSETTO:+0100
TZNAME:CET
END:STANDARD
END:VTIMEZONE
END:VCALENDAR