BEGIN:VCALENDAR
VERSION:2.0
PRODID:-//wp-events-plugin.com//7.2.3.1//EN
TZID:Europe/Vienna
X-WR-TIMEZONE:Europe/Vienna
BEGIN:VEVENT
UID:5@ycrhd.at
DTSTART;TZID=Europe/Vienna:20150318T000000
DTEND;TZID=Europe/Vienna:20150318T235900
DTSTAMP:20150303T070832Z
URL:https://ycrhd.at/events/regattahelfertreffen/
SUMMARY:Regattahelferessen
DESCRIPTION:am Mittwoch den 18.03.2015 findet das bereits traditionelle Reg
 attahelfertreffen für alle Helfer aus dem vergangenen Jahr und für alle 
 zukünftigen Helfer statt. Hier werden auch die Einteilungen für die Reg
 atten 2015 getroffen bzw. die Möglichkeiten unserer Helfer erfasst.\n\nAn
 meldung bitte bis 11.03.2015 - Renate Lenz wird sich um die Verpflegung k
 ümmern - selbstverständlich sind alle Helfer vom Club eingeladen!\n\nMen
 ü:\n\n	Gemischter Salat\n	Spaghetti-Variation vom Buffet\n	Tiramisu\n
LOCATION:Clubheim YCRhd\, Hafenstraße 22\, Fußach\, Vorarlberg\, 6972\, 
 Österreich
GEO:47.490398;9.660162
X-APPLE-STRUCTURED-LOCATION;VALUE=URI;X-ADDRESS=Hafenstraße 22\, Fußach\,
  Vorarlberg\, 6972\, Österreich;X-APPLE-RADIUS=100;X-TITLE=Clubheim YCRhd
 :geo:47.490398,9.660162
END:VEVENT
BEGIN:VTIMEZONE
TZID:Europe/Vienna
X-LIC-LOCATION:Europe/Vienna
BEGIN:STANDARD
DTSTART:20141026T020000
TZOFFSETFROM:+0200
TZOFFSETTO:+0100
TZNAME:CET
END:STANDARD
END:VTIMEZONE
END:VCALENDAR