BEGIN:VCALENDAR
VERSION:2.0
PRODID:-//wp-events-plugin.com//7.2.3.1//EN
TZID:Europe/Vienna
X-WR-TIMEZONE:Europe/Vienna
BEGIN:VEVENT
UID:47@ycrhd.at
DTSTART;TZID=Europe/Vienna:20170315T180000
DTEND;TZID=Europe/Vienna:20170315T210000
DTSTAMP:20170308T170423Z
URL:https://ycrhd.at/events/regattahelfer-essen/
SUMMARY:Regattahelfer Treffen
DESCRIPTION:Am Mittwoch den 15.03.2017 findet um 20:00 Uhr das bereits trad
 itionelle Regattahelfer-Treffen statt.\n\n
LOCATION:Clubheim YCRhd\, Hafenstraße 22\, Fußach\, Vorarlberg\, 6972\, 
 Österreich
GEO:47.490398;9.660162
X-APPLE-STRUCTURED-LOCATION;VALUE=URI;X-ADDRESS=Hafenstraße 22\, Fußach\,
  Vorarlberg\, 6972\, Österreich;X-APPLE-RADIUS=100;X-TITLE=Clubheim YCRhd
 :geo:47.490398,9.660162
END:VEVENT
BEGIN:VTIMEZONE
TZID:Europe/Vienna
X-LIC-LOCATION:Europe/Vienna
BEGIN:STANDARD
DTSTART:20161030T020000
TZOFFSETFROM:+0200
TZOFFSETTO:+0100
TZNAME:CET
END:STANDARD
END:VTIMEZONE
END:VCALENDAR