BEGIN:VCALENDAR
VERSION:2.0
PRODID:-//wp-events-plugin.com//7.2.3.1//EN
TZID:Europe/Vienna
X-WR-TIMEZONE:Europe/Vienna
BEGIN:VEVENT
UID:68@ycrhd.at
DTSTART;TZID=Europe/Vienna:20180427T183000
DTEND;TZID=Europe/Vienna:20180427T230000
DTSTAMP:20180421T185010Z
URL:https://ycrhd.at/events/quiz-mit-paella/
SUMMARY:Quiz mit Paella
DESCRIPTION:Einladung zum Clubabend\, am Freitag\, den 27. April 2018\n« Q
 uiz mit Paella und LIVE MUSIK »\nBeginn 18:49 Uhr\n****\nSpanische Gemüs
 esuppe\n****\nTraditionelle Paella frisch zubereitet\nvon Dieter Oberhöll
 er\n****\nDessertvariation „Espaniol“\n****\nPreisverteilung\nDer Prei
 s von € 20\,00 beinhaltet das Menü\, den Quiz mit schönen Preisen und 
 Live-Musik vom feinsten\n\nTwo Martinis\, Nina Fleisch &amp\; Edo Martini.
 \n\nzum HÖREN und STAUNEN: https://youtu.be/w1aUneqa-1c\n\nAuf ein zahlr
 eiches Erscheinen freuen sich Dieter Oberhöller mit Sabine\, Elena\, Lucc
 a\n\nAnmeldung bitte bis 24. April online: https://ycrhd.at/events/quiz-m
 it-paella/\n\nBitte nur Ausnahme (kein Internetzugang) Anmeldung bei Lotte
  0650 5426525/0664 1023200 oder bei Dieter 0664/2003578\n\nEinladung Quiz 
 mit Paella 2018
LOCATION:Clubheim YCRhd\, Hafenstraße 22\, Fußach\, Vorarlberg\, 6972\, 
 Österreich
GEO:47.490398;9.660162
X-APPLE-STRUCTURED-LOCATION;VALUE=URI;X-ADDRESS=Hafenstraße 22\, Fußach\,
  Vorarlberg\, 6972\, Österreich;X-APPLE-RADIUS=100;X-TITLE=Clubheim YCRhd
 :geo:47.490398,9.660162
END:VEVENT
BEGIN:VTIMEZONE
TZID:Europe/Vienna
X-LIC-LOCATION:Europe/Vienna
BEGIN:DAYLIGHT
DTSTART:20180325T030000
TZOFFSETFROM:+0100
TZOFFSETTO:+0200
TZNAME:CEST
END:DAYLIGHT
END:VTIMEZONE
END:VCALENDAR