BEGIN:VCALENDAR
VERSION:2.0
PRODID:-//wp-events-plugin.com//7.2.3.1//EN
TZID:Europe/Vienna
X-WR-TIMEZONE:Europe/Vienna
BEGIN:VEVENT
UID:165@ycrhd.at
DTSTART;TZID=Europe/Vienna:20220506T180000
DTEND;TZID=Europe/Vienna:20220506T213000
DTSTAMP:20220502T075743Z
URL:https://ycrhd.at/events/quiz-mit-paella-2/
SUMMARY:Quiz mit Paella
DESCRIPTION:Am 6.Mai.2022&nbsp\; organisiert Dieter Oberhöller zusammen mi
 t seiner Familie\, Sabine\, Elena und Lucca einen unterhaltsamen Abend und
  ein tolles Menü.\n\nBeginn 18:49 Uhr
LOCATION:Clubheim YCRhd\, Hafenstraße 22\, Fußach\, Vorarlberg\, 6972\, 
 Österreich
GEO:47.490398;9.660162
X-APPLE-STRUCTURED-LOCATION;VALUE=URI;X-ADDRESS=Hafenstraße 22\, Fußach\,
  Vorarlberg\, 6972\, Österreich;X-APPLE-RADIUS=100;X-TITLE=Clubheim YCRhd
 :geo:47.490398,9.660162
END:VEVENT
BEGIN:VTIMEZONE
TZID:Europe/Vienna
X-LIC-LOCATION:Europe/Vienna
BEGIN:DAYLIGHT
DTSTART:20220327T030000
TZOFFSETFROM:+0100
TZOFFSETTO:+0200
TZNAME:CEST
END:DAYLIGHT
END:VTIMEZONE
END:VCALENDAR