BEGIN:VCALENDAR
VERSION:2.0
PRODID:-//wp-events-plugin.com//7.2.3.1//EN
TZID:Europe/Vienna
X-WR-TIMEZONE:Europe/Vienna
BEGIN:VEVENT
UID:49@ycrhd.at
DTSTART;TZID=Europe/Vienna:20170428T184900
DTEND;TZID=Europe/Vienna:20170428T224900
DTSTAMP:20170404T111757Z
URL:https://ycrhd.at/events/quiz-3/
SUMMARY:Quiz mit Paella und LIVE MUSIK
DESCRIPTION:Einladung zum Clubabend\, am Freitag\, den 28 . April 2017\n« 
 Quiz mit Paella und LIVE MUSIK »\nBeginn 18:49 Uhr\n****\nSpanische Gemü
 sesuppe\n****\nTraditionelle Paella frisch zubereitet von Dieter Oberhöll
 er\n****\nDessertvariation „Espaniol“\n****\nPreisverteilung\nDer Prei
 s von € 20\,00 beinhaltet das Menü\, den Quiz mit schönen Preisen und 
 Live – Musik vom Feinsten\nTwo Martinis\nNina Fleisch &amp\; Edo Martini
 .\nzum HÖREN und STAUNEN: https://youtu.be/w1aUneqa-1c\nAuf ein zahlreich
 es Erscheinen freuen sich Dieter Oberhöller mit Sabine\, Elena\, Lucca\nA
 nmeldung bitte bis 24. April online\nBitte nur Ausnahme (kein Internetzuga
 ng) Anmeldung bei Lotte  0664 227 49 89 oder bei Dieter 0664/2003578
LOCATION:Clubheim YCRhd\, Hafenstraße 22\, Fußach\, Vorarlberg\, 6972\, 
 Österreich
GEO:47.490398;9.660162
X-APPLE-STRUCTURED-LOCATION;VALUE=URI;X-ADDRESS=Hafenstraße 22\, Fußach\,
  Vorarlberg\, 6972\, Österreich;X-APPLE-RADIUS=100;X-TITLE=Clubheim YCRhd
 :geo:47.490398,9.660162
END:VEVENT
BEGIN:VTIMEZONE
TZID:Europe/Vienna
X-LIC-LOCATION:Europe/Vienna
BEGIN:DAYLIGHT
DTSTART:20170326T030000
TZOFFSETFROM:+0100
TZOFFSETTO:+0200
TZNAME:CEST
END:DAYLIGHT
END:VTIMEZONE
END:VCALENDAR