BEGIN:VCALENDAR
VERSION:2.0
PRODID:-//wp-events-plugin.com//7.2.3.1//EN
TZID:Europe/Vienna
X-WR-TIMEZONE:Europe/Vienna
BEGIN:VEVENT
UID:18@ycrhd.at
DTSTART;TZID=Europe/Vienna:20151114T190000
DTEND;TZID=Europe/Vienna:20151114T220000
DTSTAMP:20151112T152914Z
URL:https://ycrhd.at/events/preisjassen/
SUMMARY:Preisjassen
DESCRIPTION:Am Samstag\, den 14. November um 19 Uhr findet im Clubheim des
  YCRhd das traditionelle Preisjassen statt.\n\nProgramm wie folgt:\n\n19:0
 0 Uhr    Minestrone\n19:30 Uhr    Erster Preisjassgang (12 Spiele)\n20
 :30 Uhr   Spanferkel mit Kartoffelgratin\n21:00 Uhr    Zweiter Preisjas
 sgang (12 Spiele)\n22:30 Uhr   Dritter Preisjassgang (12 Spiele)\n23:30 U
 hr   Süßes Dessertbuffet\n23:59 Uhr   Preisverteilung (Stichzahl ist d
 ie vierthöchste Zahl - JEDER GEWINNT!)\n\nKosten:\nEUR 12\,00    für d
 as Menü\nEUR   8\,00   Jassen\nEUR   0\,25   Sackgeld\nEUR   0\,50 
   Jasskarten / Person\n\nAnmeldung hier online oder per Email an: dietmar
 .salzmann@aon.at
ATTACH;FMTTYPE=image/jpeg:https://ycrhd.at/wp-content/uploads/2015/06/Einf
 achdeutsche_Jasskarten.jpg
LOCATION:Clubheim YCRhd\, Hafenstraße 22\, Fußach\, Vorarlberg\, 6972\, 
 Österreich
GEO:47.490398;9.660162
X-APPLE-STRUCTURED-LOCATION;VALUE=URI;X-ADDRESS=Hafenstraße 22\, Fußach\,
  Vorarlberg\, 6972\, Österreich;X-APPLE-RADIUS=100;X-TITLE=Clubheim YCRhd
 :geo:47.490398,9.660162
END:VEVENT
BEGIN:VTIMEZONE
TZID:Europe/Vienna
X-LIC-LOCATION:Europe/Vienna
BEGIN:STANDARD
DTSTART:20151025T020000
TZOFFSETFROM:+0200
TZOFFSETTO:+0100
TZNAME:CET
END:STANDARD
END:VTIMEZONE
END:VCALENDAR