BEGIN:VCALENDAR
VERSION:2.0
PRODID:-//wp-events-plugin.com//7.2.3.1//EN
TZID:Europe/Vienna
X-WR-TIMEZONE:Europe/Vienna
BEGIN:VEVENT
UID:141@ycrhd.at
DTSTART;TZID=Europe/Vienna:20211113T190000
DTEND;TZID=Europe/Vienna:20211113T233000
DTSTAMP:20211104T091307Z
URL:https://ycrhd.at/events/preisjassen-7/
SUMMARY:Preisjassen
DESCRIPTION:Am 13.11. ab 19:00 Uhr findet wieder das alljährliche Preisjas
 sen im Clubheim des YCRhd statt – und das beste – jeder gewinnt!
LOCATION:Clubheim YCRhd\, Hafenstraße 22\, Fußach\, Vorarlberg\, 6972\, 
 Österreich
GEO:47.490398;9.660162
X-APPLE-STRUCTURED-LOCATION;VALUE=URI;X-ADDRESS=Hafenstraße 22\, Fußach\,
  Vorarlberg\, 6972\, Österreich;X-APPLE-RADIUS=100;X-TITLE=Clubheim YCRhd
 :geo:47.490398,9.660162
END:VEVENT
BEGIN:VTIMEZONE
TZID:Europe/Vienna
X-LIC-LOCATION:Europe/Vienna
BEGIN:STANDARD
DTSTART:20211031T020000
TZOFFSETFROM:+0200
TZOFFSETTO:+0100
TZNAME:CET
END:STANDARD
END:VTIMEZONE
END:VCALENDAR