BEGIN:VCALENDAR
VERSION:2.0
PRODID:-//wp-events-plugin.com//7.2.3.1//EN
TZID:Europe/Vienna
X-WR-TIMEZONE:Europe/Vienna
BEGIN:VEVENT
UID:78@ycrhd.at
DTSTART;TZID=Europe/Vienna:20181117T183000
DTEND;TZID=Europe/Vienna:20181117T223000
DTSTAMP:20181015T115129Z
URL:https://ycrhd.at/events/preisjassen-4/
SUMMARY:Preisjassen
DESCRIPTION:Bei unserem traditionellen Preisjassen wird uns Lotte wie folgt
  verwöhnen:\n\n19.00 Uhr Pilzknödelsuppe vom Tafelspitz\n19.30 Uhr Erste
 r Preisjassgang (12 Spiele)\n20.30 Uhr Hirschragout mit Nockerl\, Blaukrau
 t und Birne mit Preiselbeeren\n21.30 Uhr Zweiter Preisjassgang (8 Spiele)\
 n22.15 Uhr Dritter Preisjassgang (8 Spiele)\n23.00 Uhr Schokoschnitte\n23.
 30 Uhr Preisverteilung\n\nStichzahl ist die vierthöchste Zahl – JEDER G
 EWINNT!\n\nPreis: Euro 17\,-- für das Menü\,\nGetränke gehen zu eigenen
  Lasten!\n\nJassen: Euro 8\,-- Sackgeld Euro 0\,25 Jasskarten Euro 0\,50 p
 ro Person
LOCATION:Clubheim YCRhd\, Hafenstraße 22\, Fußach\, Vorarlberg\, 6972\, 
 Österreich
GEO:47.490398;9.660162
X-APPLE-STRUCTURED-LOCATION;VALUE=URI;X-ADDRESS=Hafenstraße 22\, Fußach\,
  Vorarlberg\, 6972\, Österreich;X-APPLE-RADIUS=100;X-TITLE=Clubheim YCRhd
 :geo:47.490398,9.660162
END:VEVENT
BEGIN:VTIMEZONE
TZID:Europe/Vienna
X-LIC-LOCATION:Europe/Vienna
BEGIN:STANDARD
DTSTART:20181028T020000
TZOFFSETFROM:+0200
TZOFFSETTO:+0100
TZNAME:CET
END:STANDARD
END:VTIMEZONE
END:VCALENDAR