BEGIN:VCALENDAR
VERSION:2.0
PRODID:-//wp-events-plugin.com//7.2.3.1//EN
TZID:Europe/Vienna
X-WR-TIMEZONE:Europe/Vienna
BEGIN:VEVENT
UID:15@ycrhd.at
DTSTART;TZID=Europe/Vienna:20150926T090000
DTEND;TZID=Europe/Vienna:20150926T180000
DTSTAMP:20150304T105715Z
URL:https://ycrhd.at/events/herbstwanderung-2/
SUMMARY:Herbstwanderung
DESCRIPTION:
END:VEVENT
BEGIN:VTIMEZONE
TZID:Europe/Vienna
X-LIC-LOCATION:Europe/Vienna
BEGIN:DAYLIGHT
DTSTART:20150329T030000
TZOFFSETFROM:+0100
TZOFFSETTO:+0200
TZNAME:CEST
END:DAYLIGHT
END:VTIMEZONE
END:VCALENDAR