BEGIN:VCALENDAR
VERSION:2.0
PRODID:-//wp-events-plugin.com//7.2.3.1//EN
TZID:Europe/Vienna
X-WR-TIMEZONE:Europe/Vienna
BEGIN:VEVENT
UID:131@ycrhd.at
DTSTART;TZID=Europe/Vienna:20210327T090000
DTEND;TZID=Europe/Vienna:20210327T123000
DTSTAMP:20201121T183810Z
URL:https://ycrhd.at/events/hafenputzate-7/
SUMMARY:Hafenputzate
DESCRIPTION:Traditionell wird zu Saisonbeginn das Clubgelände auf Vorderma
 nn gebracht\, wir freuen uns auch über Deine Mithilfe!\nAuch wird unsere 
 Jugend\, Trainer und Übungsleiter die Opti’s und Jugendboote für den E
 insatz wieder optimieren\, komplettieren und putzen.\nArbeitseinsatz von 9
 :00 Uhr bis 12:30 Uhr (Mittagessen auf Clubkosten)
END:VEVENT
BEGIN:VTIMEZONE
TZID:Europe/Vienna
X-LIC-LOCATION:Europe/Vienna
BEGIN:STANDARD
DTSTART:20201025T020000
TZOFFSETFROM:+0200
TZOFFSETTO:+0100
TZNAME:CET
END:STANDARD
END:VTIMEZONE
END:VCALENDAR