BEGIN:VCALENDAR
VERSION:2.0
PRODID:-//wp-events-plugin.com//7.2.3.1//EN
TZID:Europe/Vienna
X-WR-TIMEZONE:Europe/Vienna
BEGIN:VEVENT
UID:85@ycrhd.at
DTSTART;TZID=Europe/Vienna:20180310T140000
DTEND;TZID=Europe/Vienna:20180310T160000
DTSTAMP:20180304T100913Z
URL:https://ycrhd.at/events/gem-fussach-landschaftsreinigung/
SUMMARY:Gem. Fußach Landschaftsreinigung
DESCRIPTION:Hallo liebe Clubmitglieder\,\n\nauch unser Verein ist dieses Ja
 hr wieder zur Teilnahme an der Landschaftsreinigung der Gemeinde Fußach e
 ingeladen.\n\nWer Lust und Zeit hat innerhalb unserer Gruppe daran teilzun
 ehmen\, möge sich bitte bis Donnerstag um 22:00 Uhr auf unserer Homepage 
 dazu verbindlich anmelden.\n\nDer Termin ist Samstag\, den 10. März !\n\n
 Treffpunkt ist um 14:00 beim Gemeindeamt Fußach.\n\nBei Schlechtwetter en
 tfällt die Landschaftsreinigung ersatzlos.\n\nm f g\n\nKurt Heinzle (Für
  allfällige Fragen stehe ich gerne zur Verfügung 0664/73525069)
ATTACH;FMTTYPE=image/jpeg:https://ycrhd.at/wp-content/uploads/2016/03/DSC_
 0107.jpg
LOCATION:\, \, 
X-APPLE-STRUCTURED-LOCATION;VALUE=URI;X-ADDRESS=\, ;X-APPLE-RADIUS=100;X-TI
 TLE=:geo:0,0
END:VEVENT
BEGIN:VTIMEZONE
TZID:Europe/Vienna
X-LIC-LOCATION:Europe/Vienna
BEGIN:STANDARD
DTSTART:20171029T020000
TZOFFSETFROM:+0200
TZOFFSETTO:+0100
TZNAME:CET
END:STANDARD
END:VTIMEZONE
END:VCALENDAR