BEGIN:VCALENDAR
VERSION:2.0
PRODID:-//wp-events-plugin.com//7.2.3.1//EN
TZID:Europe/Vienna
X-WR-TIMEZONE:Europe/Vienna
BEGIN:VEVENT
UID:124@ycrhd.at
DTSTART;TZID=Europe/Vienna:20200317T190000
DTEND;TZID=Europe/Vienna:20200317T210000
DTSTAMP:20200315T073118Z
URL:https://ycrhd.at/events/dieselmotoren-auf-yachten-kurs-1/
SUMMARY:Abgesagt! Dieselmotoren auf Yachten\, Kurs 1
DESCRIPTION:Sie verstehen den Aufbau und die Funktionsweise von Dieselmotor
 en. Sie kennen die notwendigen Kontrollen\, die regelmässig durchzuführe
 n sind. Sie können Störungen lokalisieren und den Handlungsbedarf richti
 g einschätzen. Sie sind in der Lage kleinere Wartungsarbeiten und Reparat
 uren durchführen.\n\nKursinhalte:\n\n 	Grundlagen\, Aufbau\, Funktion\, W
 artung und Fehlerbehebung\n\nKursleiter: Helmut Feuerstein\n\nFür die Tei
 lnehmern des Grundkurses besteht die Möglichkeit an einem praktischen Kur
 s teilzunehmen. Dieser wird in Feldkirch an einem 3 Zylinder Kybota Motor 
 stattfinden.\n\nDie Anmeldeliste wird beim Grundlagen Kurs aufliegen.\n\nK
 ursort:\n\nYCRhd Club Lokal\n\nKurskosten: gratis
LOCATION:Clubheim YCRhd\, Hafenstraße 22\, Fußach\, Vorarlberg\, 6972\, 
 Österreich
GEO:47.490398;9.660162
X-APPLE-STRUCTURED-LOCATION;VALUE=URI;X-ADDRESS=Hafenstraße 22\, Fußach\,
  Vorarlberg\, 6972\, Österreich;X-APPLE-RADIUS=100;X-TITLE=Clubheim YCRhd
 :geo:47.490398,9.660162
END:VEVENT
BEGIN:VTIMEZONE
TZID:Europe/Vienna
X-LIC-LOCATION:Europe/Vienna
BEGIN:STANDARD
DTSTART:20191027T020000
TZOFFSETFROM:+0200
TZOFFSETTO:+0100
TZNAME:CET
END:STANDARD
END:VTIMEZONE
END:VCALENDAR