BEGIN:VCALENDAR
VERSION:2.0
PRODID:-//wp-events-plugin.com//7.2.3.1//EN
TZID:Europe/Vienna
X-WR-TIMEZONE:Europe/Vienna
BEGIN:VEVENT
UID:106@ycrhd.at
DTSTART;TZID=Europe/Vienna:20190306T190000
DTEND;TZID=Europe/Vienna:20190306T230000
DTSTAMP:20190220T123958Z
URL:https://ycrhd.at/events/aschermittwochs-fischmenue/
SUMMARY:Aschermittwochs-Fischmenue
DESCRIPTION:Der YCRhd lädt auch dieses Jahr zum traditionellen Aschermitt
 wochs-Fischmenue ein:\n\nLotte wird uns mit diesem Menü den Einstieg in d
 ie Fastenzeit etwas leichter machen:\n\nKrabbencocktail\n\nGemüsesuppe mi
 t gerösteten Mandeln und Kresse\n\nFischfilet auf Wokgemüse mit oriental
 ischer Sauce\nMandelbällchen\n\nFeines Omlett gebettet auf Fruchtsalat mi
 t Grand Marnier\n\nGuten Appetit!\n\n€ 17\,00
LOCATION:\, \, 
X-APPLE-STRUCTURED-LOCATION;VALUE=URI;X-ADDRESS=\, ;X-APPLE-RADIUS=100;X-TI
 TLE=:geo:0,0
END:VEVENT
BEGIN:VTIMEZONE
TZID:Europe/Vienna
X-LIC-LOCATION:Europe/Vienna
BEGIN:STANDARD
DTSTART:20181028T020000
TZOFFSETFROM:+0200
TZOFFSETTO:+0100
TZNAME:CET
END:STANDARD
END:VTIMEZONE
END:VCALENDAR