BEGIN:VCALENDAR
VERSION:2.0
PRODID:-//wp-events-plugin.com//7.2.3.1//EN
TZID:Europe/Vienna
X-WR-TIMEZONE:Europe/Vienna
BEGIN:VEVENT
UID:3@ycrhd.at
DTSTART;TZID=Europe/Vienna:20150218T190000
DTEND;TZID=Europe/Vienna:20150218T233000
DTSTAMP:20150212T071511Z
URL:https://ycrhd.at/events/aschermittwoch-fischessen/
SUMMARY:Aschermittwoch-Fischessen
DESCRIPTION:Liebe Clubmitglieder\,\ntraditionell findet am Aschermittwoch (
 18.02.2015) um 19:00 Uhr das Aschermittwoch-Fischessen im Clubheim statt.\
 nLotte hat wie gewohnt ein tolles Menü zusammengestellt:\n
LOCATION:\, \, 
X-APPLE-STRUCTURED-LOCATION;VALUE=URI;X-ADDRESS=\, ;X-APPLE-RADIUS=100;X-TI
 TLE=:geo:0,0
END:VEVENT
BEGIN:VTIMEZONE
TZID:Europe/Vienna
X-LIC-LOCATION:Europe/Vienna
BEGIN:STANDARD
DTSTART:20141026T020000
TZOFFSETFROM:+0200
TZOFFSETTO:+0100
TZNAME:CET
END:STANDARD
END:VTIMEZONE
END:VCALENDAR