BEGIN:VCALENDAR
VERSION:2.0
PRODID:-//wp-events-plugin.com//7.2.3.1//EN
TZID:Europe/Vienna
X-WR-TIMEZONE:Europe/Vienna
BEGIN:VEVENT
UID:151@ycrhd.at
DTSTART;TZID=Europe/Vienna:20220302T183000
DTEND;TZID=Europe/Vienna:20220302T210000
DTSTAMP:20220228T210748Z
URL:https://ycrhd.at/events/aschermittwoch-fischessen-7/
SUMMARY:Aschermittwoch Fischessen
DESCRIPTION:Fisch Menü für Aschermittwoch.\n\nLachsforellenfilet vom Breg
 enzerwald ISENBERG\nKartoffeln\, Senfkarotten\, Rote Rübe\nNachtisch: Tir
 amisu\n\nBitte mit Anmeldung bis Sonntag\, da der Fisch frisch gefangen wi
 rd und ich ihn frühzeitig bestellen muss.\n\nPreis fürs Menü: 18\,50 Eu
 ro
END:VEVENT
BEGIN:VTIMEZONE
TZID:Europe/Vienna
X-LIC-LOCATION:Europe/Vienna
BEGIN:STANDARD
DTSTART:20211031T020000
TZOFFSETFROM:+0200
TZOFFSETTO:+0100
TZNAME:CET
END:STANDARD
END:VTIMEZONE
END:VCALENDAR