BEGIN:VCALENDAR
VERSION:2.0
PRODID:-//wp-events-plugin.com//7.2.3.1//EN
TZID:Europe/Vienna
X-WR-TIMEZONE:Europe/Vienna
BEGIN:VEVENT
UID:64@ycrhd.at
DTSTART;TZID=Europe/Vienna:20180214T190000
DTEND;TZID=Europe/Vienna:20180214T230000
DTSTAMP:20180205T182113Z
URL:https://ycrhd.at/events/aschermittwoch-fischessen-4/
SUMMARY:Aschermittwoch - Fischessen
DESCRIPTION:Am Mittwoch\, den 14.02.2018 findet um 19:00 im Clubheim des YC
 Rhd das jährliche Aschermittwoch-Fischessen statt.\nLotte hat wie gewohnt
  ein tolles Menü zusammenstellt:\nSüppchen mit Ricottanockerl\n\nGemisch
 ter Salatteller mit Couscous alla Trapanese (Mini-Meeresfrüchte)\n\nFisch
 filet mit Zitronenbutter\n\nGefüllte Zucchiniröllchen mit Mozarella übe
 rbacken und dazu Tomaten-Avocado-Relish\n\nSpaghettinester\n\nOrangen-Tira
 misu\n\nAm Faschingsdienstag gibt es ein buntes\, feuriges Curry!\n\nWir b
 itten euch um rechtzeitige Anmeldung\, da Lotte den Fisch noch fangen muss
  und das braucht seine Zeit.\n\nAnmeldungen bitte bis spätestens Samstag 
 10.02.2016 direkt in der Veranstaltung online (zur Online Anmeldung genüg
 t die E-Mail Adresse/es ist nicht notwendig sich vorab einzuloggen):
LOCATION:Clubheim YCRhd\, Hafenstraße 22\, Fußach\, Vorarlberg\, 6972\, 
 Österreich
GEO:47.490398;9.660162
X-APPLE-STRUCTURED-LOCATION;VALUE=URI;X-ADDRESS=Hafenstraße 22\, Fußach\,
  Vorarlberg\, 6972\, Österreich;X-APPLE-RADIUS=100;X-TITLE=Clubheim YCRhd
 :geo:47.490398,9.660162
END:VEVENT
BEGIN:VTIMEZONE
TZID:Europe/Vienna
X-LIC-LOCATION:Europe/Vienna
BEGIN:STANDARD
DTSTART:20171029T020000
TZOFFSETFROM:+0200
TZOFFSETTO:+0100
TZNAME:CET
END:STANDARD
END:VTIMEZONE
END:VCALENDAR