BEGIN:VCALENDAR
VERSION:2.0
PRODID:-//wp-events-plugin.com//7.2.3.1//EN
TZID:Europe/Vienna
X-WR-TIMEZONE:Europe/Vienna
BEGIN:VEVENT
UID:46@ycrhd.at
DTSTART;TZID=Europe/Vienna:20170301T190000
DTEND;TZID=Europe/Vienna:20170301T230000
DTSTAMP:20170222T190326Z
URL:https://ycrhd.at/events/aschermittwoch-fischessen-2/
SUMMARY:Aschermittwoch-Fischessen
DESCRIPTION:Am Mittwoch\, den 1.03.2016 findet um 19:00 im Clubheim des YCR
 hd das jährliche Aschermittwoch-Fischessen statt.\nLotte hat wie gewohnt 
 ein tolles Menü zusammengestellt:\n\n\n 	Französische Zwiebelsuppe\n 	Ba
 chforelle\n 	Kleine\, gefüllte Tortillas mit Currysauce\n 	Salatschüssel
 chen\n 	Früchtesalat mit Eiskugel\n\nWeitere Informationen und Anmeldunge
 n bitte bis spätestens Samstag 25.02.2016 direkt in der Veranstaltung onl
 ine (zur Online Anmeldung genügt die E-Mail Adresse/es ist nicht notwendi
 g sich vorab einzuloggen):\n\n&nbsp\;
LOCATION:Clubheim YCRhd\, Hafenstraße 22\, Fußach\, Vorarlberg\, 6972\, 
 Österreich
GEO:47.490398;9.660162
X-APPLE-STRUCTURED-LOCATION;VALUE=URI;X-ADDRESS=Hafenstraße 22\, Fußach\,
  Vorarlberg\, 6972\, Österreich;X-APPLE-RADIUS=100;X-TITLE=Clubheim YCRhd
 :geo:47.490398,9.660162
END:VEVENT
BEGIN:VTIMEZONE
TZID:Europe/Vienna
X-LIC-LOCATION:Europe/Vienna
BEGIN:STANDARD
DTSTART:20161030T020000
TZOFFSETFROM:+0200
TZOFFSETTO:+0100
TZNAME:CET
END:STANDARD
END:VTIMEZONE
END:VCALENDAR