BEGIN:VCALENDAR
VERSION:2.0
PRODID:-//wp-events-plugin.com//7.2.3.1//EN
TZID:Europe/Vienna
X-WR-TIMEZONE:Europe/Vienna
BEGIN:VEVENT
UID:123@ycrhd.at
DTSTART;TZID=Europe/Vienna:20201126T200000
DTEND;TZID=Europe/Vienna:20201126T220000
DTSTAMP:20201110T190145Z
URL:https://ycrhd.at/events/67-generalversammlung/
SUMMARY:67. Generalversammlung-verschoben!
DESCRIPTION:
END:VEVENT
BEGIN:VTIMEZONE
TZID:Europe/Vienna
X-LIC-LOCATION:Europe/Vienna
BEGIN:STANDARD
DTSTART:20201025T020000
TZOFFSETFROM:+0200
TZOFFSETTO:+0100
TZNAME:CET
END:STANDARD
END:VTIMEZONE
END:VCALENDAR